data_PbCl2_1
_audit_creation_date              2022-05-24
_audit_creation_method            'Materials Studio'
_symmetry_space_group_name_H-M    'PNAM'
_symmetry_Int_Tables_number       62
_symmetry_cell_setting            orthorhombic
loop_
_symmetry_equiv_pos_as_xyz
  x,y,z
  -x+1/2,y+1/2,-z
  -x,-y,z+1/2
  x+1/2,-y+1/2,-z+1/2
  -x,-y,-z
  x+1/2,-y+1/2,z
  x,y,-z+1/2
  -x+1/2,y+1/2,z+1/2
_cell_length_a                    7.5287
_cell_length_b                    9.0631
_cell_length_c                    4.4805
_cell_angle_alpha                 90.0000
_cell_angle_beta                  90.0000
_cell_angle_gamma                 90.0000
loop_
_atom_site_label
_atom_site_type_symbol
_atom_site_fract_x
_atom_site_fract_y
_atom_site_fract_z
_atom_site_occupancy
Cl1    Cl    0.85842   0.07895   0.25000  0.95
Cl2    Cl    0.48318   0.84096   0.25000  0.98
Pb     Pb    0.26279   0.09440   0.25000  1.00
